BEGIN:VCALENDAR
VERSION:2.0
PRODID:SchoolNow
CALSCALE:GREGORIAN
BEGIN:VEVENT
UID:1a93e250-add9-11eb-88a6-0a7962908b81
DTSTAMP:20210505T193553Z
SUMMARY:Grade 8 Moving-Up Ceremony
URL;VALUE=URI:https://www.albanyschools.org/schools/oneal/calendar/2594358/
 grade-8-moving-up-ceremony
DTSTART:20210625T140000Z
DTEND:20210625T150000Z
END:VEVENT
END:VCALENDAR
