BEGIN:VCALENDAR
VERSION:2.0
PRODID:SchoolNow
CALSCALE:GREGORIAN
BEGIN:VEVENT
UID:38409e0c-f617-11eb-930f-0e2f7a995e17
DTSTAMP:20210809T130847Z
SUMMARY:Girls' basketball interest meeting
URL;VALUE=URI:https://www.albanyschools.org/schools/oneal/calendar/2656224/
 girls-basketball-interest-meeting
DTSTART:20210809T220000Z
DTEND:20210809T230000Z
END:VEVENT
END:VCALENDAR
