BEGIN:VCALENDAR
VERSION:2.0
PRODID:SchoolNow
CALSCALE:GREGORIAN
BEGIN:VEVENT
UID:8cae2ed4-fc3c-11eb-b576-0a4a7d3f8b2f
DTSTAMP:20210816T162454Z
SUMMARY:Fall Sports Physicals
LOCATION:Abrookin Career and Technical Center (99 Kent St)
URL;VALUE=URI:https://www.albanyschools.org/schools/oneal/calendar/2669746/
 fall-sports-physicals-clone
DTSTART:20210831T130000Z
DTEND:20210831T190000Z
END:VEVENT
END:VCALENDAR
