BEGIN:VCALENDAR
VERSION:2.0
PRODID:SchoolNow
CALSCALE:GREGORIAN
BEGIN:VEVENT
UID:acf4af9c-8da6-11f0-8353-0a58a9feac02
DTSTAMP:20250909T175905Z
SUMMARY:Caroling on the Stairs
URL;VALUE=URI:https://www.albanyschools.org/schools/roots/calendar/8601772/
 caroling-on-the-stairs
DTSTART:20251217T190000Z
DTEND:20251217T200000Z
END:VEVENT
END:VCALENDAR
