BEGIN:VCALENDAR
VERSION:2.0
PRODID:SchoolNow
CALSCALE:GREGORIAN
BEGIN:VEVENT
UID:23fbc142-adba-11f0-9a19-02f8fb2e10f3
DTSTAMP:20251020T133902Z
SUMMARY:Parent-teacher conferences
URL;VALUE=URI:https://www.albanyschools.org/schools/roots/calendar/8736062/
 parent-teacher-conferences
DTSTART:20251023T200000Z
DTEND:20251023T230000Z
END:VEVENT
END:VCALENDAR
