BEGIN:VCALENDAR
VERSION:2.0
PRODID:SchoolNow
CALSCALE:GREGORIAN
BEGIN:VEVENT
UID:69f45bbe-adba-11f0-a9fb-0a58a9feac02
DTSTAMP:20251020T134100Z
SUMMARY:Parent-teacher conferences
URL;VALUE=URI:https://www.albanyschools.org/schools/roots/calendar/8736063/
 parent-teacher-conferences
DTSTART:20251024T160000Z
DTEND:20251024T190000Z
END:VEVENT
END:VCALENDAR
