BEGIN:VCALENDAR
VERSION:2.0
PRODID:SchoolNow
CALSCALE:GREGORIAN
BEGIN:VEVENT
UID:6b71c3fc-e5a3-11f0-855b-0a58a9feac02
DTSTAMP:20251230T171729Z
SUMMARY:Winter Concert
URL;VALUE=URI:https://www.albanyschools.org/schools/roots/calendar/8827752/
 winter-concert
DTSTART:20260107T223000Z
DTEND:20260107T233000Z
END:VEVENT
END:VCALENDAR
