BEGIN:VCALENDAR
VERSION:2.0
PRODID:SchoolNow
CALSCALE:GREGORIAN
BEGIN:VEVENT
UID:8162fd8e-e5a3-11f0-bdbd-0a58a9feac02
DTSTAMP:20251230T172709Z
SUMMARY:Saturday Morning Program
URL;VALUE=URI:https://www.albanyschools.org/schools/roots/calendar/8827753/
 saturday-morning-program
DTSTART:20260314T130000Z
DTEND:20260314T160000Z
END:VEVENT
END:VCALENDAR
