BEGIN:VCALENDAR
VERSION:2.0
PRODID:SchoolNow
CALSCALE:GREGORIAN
BEGIN:VEVENT
UID:8fa92558-e5a3-11f0-a2b6-0a58a9feac02
DTSTAMP:20251230T171830Z
SUMMARY:Saturday Morning Program
URL;VALUE=URI:https://www.albanyschools.org/schools/roots/calendar/8827754/
 saturday-morning-program
DTSTART:20260117T140000Z
DTEND:20260117T170000Z
END:VEVENT
END:VCALENDAR
