BEGIN:VCALENDAR
VERSION:2.0
PRODID:SchoolNow
CALSCALE:GREGORIAN
BEGIN:VEVENT
UID:a19c401a-e5a3-11f0-8025-0affef73b657
DTSTAMP:20251230T171900Z
SUMMARY:Saturday Morning Program
URL;VALUE=URI:https://www.albanyschools.org/schools/roots/calendar/8827755/
 saturday-morning-program
DTSTART:20260124T140000Z
DTEND:20260124T170000Z
END:VEVENT
END:VCALENDAR
