BEGIN:VCALENDAR
VERSION:2.0
PRODID:SchoolNow
CALSCALE:GREGORIAN
BEGIN:VEVENT
UID:bbc6c244-e5a3-11f0-a9ef-0ed2e729a333
DTSTAMP:20251230T171944Z
SUMMARY:Enrichment Day
URL;VALUE=URI:https://www.albanyschools.org/schools/roots/calendar/8827756/
 enrichment-day
DTSTART;VALUE=DATE:20260123
DTEND;VALUE=DATE:20260124
END:VEVENT
END:VCALENDAR
