BEGIN:VCALENDAR
VERSION:2.0
PRODID:SchoolNow
CALSCALE:GREGORIAN
BEGIN:VEVENT
UID:caa3d086-e5a3-11f0-9658-022c9a8d7b73
DTSTAMP:20251230T172009Z
SUMMARY:Saturday Morning Program
URL;VALUE=URI:https://www.albanyschools.org/schools/roots/calendar/8827757/
 saturday-morning-program
DTSTART:20260131T140000Z
DTEND:20260131T170000Z
END:VEVENT
END:VCALENDAR
