BEGIN:VCALENDAR
VERSION:2.0
PRODID:SchoolNow
CALSCALE:GREGORIAN
BEGIN:VEVENT
UID:204f8ce6-e5a4-11f0-821d-0a58a9feac02
DTSTAMP:20251230T172232Z
SUMMARY:Saturday Morning Program
URL;VALUE=URI:https://www.albanyschools.org/schools/roots/calendar/8827758/
 saturday-morning-program
DTSTART:20260207T140000Z
DTEND:20260207T170000Z
END:VEVENT
END:VCALENDAR
