BEGIN:VCALENDAR
VERSION:2.0
PRODID:SchoolNow
CALSCALE:GREGORIAN
BEGIN:VEVENT
UID:2ff52a84-e5a4-11f0-b64f-0affef73b657
DTSTAMP:20251230T172259Z
SUMMARY:Saturday Morning Program
URL;VALUE=URI:https://www.albanyschools.org/schools/roots/calendar/8827759/
 saturday-morning-program
DTSTART:20260228T140000Z
DTEND:20260228T170000Z
END:VEVENT
END:VCALENDAR
