BEGIN:VCALENDAR
VERSION:2.0
PRODID:SchoolNow
CALSCALE:GREGORIAN
BEGIN:VEVENT
UID:9ab77cdc-e5a4-11f0-ab88-022c9a8d7b73
DTSTAMP:20260130T175642Z
SUMMARY:Black History Celebration
URL;VALUE=URI:https://www.albanyschools.org/schools/roots/calendar/8827761/
 black-history-celebration
DTSTART:20260227T190000Z
DTEND:20260227T200000Z
END:VEVENT
END:VCALENDAR
