BEGIN:VCALENDAR
VERSION:2.0
PRODID:SchoolNow
CALSCALE:GREGORIAN
BEGIN:VEVENT
UID:b8ef93e2-e5a4-11f0-ad1f-0e89667e7b37
DTSTAMP:20251230T172648Z
SUMMARY:Saturday Morning Program
URL;VALUE=URI:https://www.albanyschools.org/schools/roots/calendar/8827762/
 saturday-morning-program
DTSTART:20260307T140000Z
DTEND:20260307T170000Z
END:VEVENT
END:VCALENDAR
