BEGIN:VCALENDAR
VERSION:2.0
PRODID:SchoolNow
CALSCALE:GREGORIAN
BEGIN:VEVENT
UID:d0114034-e5a4-11f0-b5dc-0afff0dc14c1
DTSTAMP:20251230T172727Z
SUMMARY:Saturday Morning Program
URL;VALUE=URI:https://www.albanyschools.org/schools/roots/calendar/8827763/
 saturday-morning-program-clone
DTSTART:20260328T130000Z
DTEND:20260328T160000Z
END:VEVENT
END:VCALENDAR
