BEGIN:VCALENDAR
VERSION:2.0
PRODID:SchoolNow
CALSCALE:GREGORIAN
BEGIN:VEVENT
UID:f957f05a-e5a4-11f0-a53e-0a58a9feac02
DTSTAMP:20251230T172836Z
SUMMARY:STEM Night
URL;VALUE=URI:https://www.albanyschools.org/schools/roots/calendar/8827764/
 stem-night
DTSTART:20260319T213000Z
DTEND:20260319T230000Z
END:VEVENT
END:VCALENDAR
