BEGIN:VCALENDAR
VERSION:2.0
PRODID:SchoolNow
CALSCALE:GREGORIAN
BEGIN:VEVENT
UID:0ce4baa4-e5a5-11f0-bd19-0a58a9feac02
DTSTAMP:20251230T172909Z
SUMMARY:Enrichment Day
URL;VALUE=URI:https://www.albanyschools.org/schools/roots/calendar/8827765/
 enrichment-day
DTSTART;VALUE=DATE:20260313
DTEND;VALUE=DATE:20260314
END:VEVENT
END:VCALENDAR
