BEGIN:VCALENDAR
VERSION:2.0
PRODID:SchoolNow
CALSCALE:GREGORIAN
BEGIN:VEVENT
UID:d7db98a8-2ea8-11f1-bf98-0a58a9feac02
DTSTAMP:20260420T131824Z
SUMMARY:Spring Concert
URL;VALUE=URI:https://www.albanyschools.org/schools/roots/calendar/8966119/
 spring-concert
DTSTART:20260611T213000Z
DTEND:20260611T223000Z
END:VEVENT
END:VCALENDAR
